BEGIN:VCALENDAR
VERSION:2.0
PRODID:-//oi2.cl - ECPv6.0.10//NONSGML v1.0//EN
CALSCALE:GREGORIAN
METHOD:PUBLISH
X-ORIGINAL-URL:https://oi2.cl
X-WR-CALDESC:Eventos para oi2.cl
REFRESH-INTERVAL;VALUE=DURATION:PT1H
X-Robots-Tag:noindex
X-PUBLISHED-TTL:PT1H
BEGIN:VTIMEZONE
TZID:UTC
BEGIN:STANDARD
TZOFFSETFROM:+0000
TZOFFSETTO:+0000
TZNAME:UTC
DTSTART:20230101T000000
END:STANDARD
END:VTIMEZONE
BEGIN:VEVENT
DTSTART;VALUE=DATE:20230305
DTEND;VALUE=DATE:20230307
DTSTAMP:20260421T050140
CREATED:20230305T225914Z
LAST-MODIFIED:20230305T225914Z
UID:2914-1677974400-1678147199@oi2.cl
SUMMARY:Dethonray
DESCRIPTION:Ven a conocer nuestros productos de audio personal
URL:https://oi2.cl/event/dethonray/
LOCATION:Gira2\, Apoquindo 7935\, Santiago\, Chile
END:VEVENT
END:VCALENDAR